BEGIN:VCALENDAR
VERSION:2.0
PRODID:-//Desafío Latam - ECPv6.1.4//NONSGML v1.0//EN
CALSCALE:GREGORIAN
METHOD:PUBLISH
X-ORIGINAL-URL:https://blog.desafiolatam.com
X-WR-CALDESC:Eventos para Desafío Latam
REFRESH-INTERVAL;VALUE=DURATION:PT1H
X-Robots-Tag:noindex
X-PUBLISHED-TTL:PT1H
BEGIN:VTIMEZONE
TZID:America/Sao_Paulo
BEGIN:STANDARD
TZOFFSETFROM:-0300
TZOFFSETTO:-0300
TZNAME:-03
DTSTART:20230101T000000
END:STANDARD
END:VTIMEZONE
BEGIN:VEVENT
DTSTART;TZID=America/Sao_Paulo:20231026T053000
DTEND;TZID=America/Sao_Paulo:20231026T063000
DTSTAMP:20260421T081516
CREATED:20231003T222925Z
LAST-MODIFIED:20231003T223011Z
UID:10961-1698298200-1698301800@blog.desafiolatam.com
SUMMARY:Impulsa tu negocio con WhatsApp Business
DESCRIPTION:¿Quieres llevar tu negocio al siguiente nivel y aprovechar al máximo una de las plataformas de comunicación más populares del mundo? Entonces este webinar es imprescindible para ti. Únete a nosotros en “Impulsa tu negocio con WhatsApp Business” y descubre cómo esta potente herramienta de mensajería puede transformar tu manera de interactuar con clientes y prospectos. \nDescubre cómo aprovechar al máximo esta poderosa herramienta de comunicación para hacer crecer tu negocio. \nAprenderemos cómo cambiarnos del WhatsApp normal al WhatsApp Business\, exploraremos las funciones adicionales que nos facilita la aplicación y un ejemplo práctico del funcionamiento en el día a día de una empresa con la versión Business de WhatsApp.
URL:https://blog.desafiolatam.com/eventos/impulsa-tu-negocio-con-whatsapp-business/
LOCATION:Evento Online
ATTACH;FMTTYPE=image/jpeg:https://blog.desafiolatam.com/wp-content/uploads/2023/10/https___cdn.evbuc_.com_images_601226759_1649429072303_1_original.jpeg
END:VEVENT
END:VCALENDAR