BEGIN:VCALENDAR
VERSION:2.0
PRODID:-//Desafío Latam - ECPv6.1.4//NONSGML v1.0//EN
CALSCALE:GREGORIAN
METHOD:PUBLISH
X-WR-CALNAME:Desafío Latam
X-ORIGINAL-URL:https://blog.desafiolatam.com
X-WR-CALDESC:Eventos para Desafío Latam
REFRESH-INTERVAL;VALUE=DURATION:PT1H
X-Robots-Tag:noindex
X-PUBLISHED-TTL:PT1H
BEGIN:VTIMEZONE
TZID:America/Sao_Paulo
BEGIN:STANDARD
TZOFFSETFROM:-0300
TZOFFSETTO:-0300
TZNAME:-03
DTSTART:20230101T000000
END:STANDARD
END:VTIMEZONE
BEGIN:VEVENT
DTSTART;TZID=America/Sao_Paulo:20231012T220000
DTEND;TZID=America/Sao_Paulo:20231012T230000
DTSTAMP:20260422T095959
CREATED:20231003T234510Z
LAST-MODIFIED:20240130T014508Z
UID:10972-1697148000-1697151600@blog.desafiolatam.com
SUMMARY:De la Idea a la Interfaz: Experiencia de Usuario (UX) en Figma
DESCRIPTION:Figma es una herramienta de diseño popular y poderosa que ofrece funciones esenciales que facilitan el diseño responsivo\, la creación de prototipos\, entre otras características. Además\, te ayudará a dar vida a tus ideas y a crear productos digitales inigualables. 👨‍💻​ \nSi estás buscando iniciar una carrera como Diseñador UX/UI\, este taller es la oportunidad perfecta para dar el primer paso. 🫵​ \nInscríbete y conviértete en un experto del diseño centrado en el usuario. 🤳
URL:https://blog.desafiolatam.com/eventos/de-la-idea-a-la-interfaz-experiencia-de-usuario-ux-en-figma/
LOCATION:Evento Online
ATTACH;FMTTYPE=image/jpeg:https://blog.desafiolatam.com/wp-content/uploads/2023/10/https___cdn.evbuc_.com_images_608142079_1674561405713_1_original.jpeg
END:VEVENT
BEGIN:VEVENT
DTSTART;TZID=America/Sao_Paulo:20231012T220000
DTEND;TZID=America/Sao_Paulo:20231012T233000
DTSTAMP:20260422T095959
CREATED:20231003T220724Z
LAST-MODIFIED:20231003T220724Z
UID:10951-1697148000-1697153400@blog.desafiolatam.com
SUMMARY:¿Qué tiene que ver el área de Recursos Humanos con Agilidad?
DESCRIPTION:
URL:https://blog.desafiolatam.com/eventos/que-tiene-que-ver-el-area-de-recursos-humanos-con-agilidad/
LOCATION:Evento Online
ATTACH;FMTTYPE=image/jpeg:https://blog.desafiolatam.com/wp-content/uploads/2023/10/https___cdn.evbuc_.com_images_611398899_267060089648_1_original.jpeg
END:VEVENT
END:VCALENDAR