BEGIN:VCALENDAR
VERSION:2.0
PRODID:-//Desafío Latam - ECPv6.1.4//NONSGML v1.0//EN
CALSCALE:GREGORIAN
METHOD:PUBLISH
X-ORIGINAL-URL:https://blog.desafiolatam.com
X-WR-CALDESC:Eventos para Desafío Latam
REFRESH-INTERVAL;VALUE=DURATION:PT1H
X-Robots-Tag:noindex
X-PUBLISHED-TTL:PT1H
BEGIN:VTIMEZONE
TZID:America/Sao_Paulo
BEGIN:STANDARD
TZOFFSETFROM:-0300
TZOFFSETTO:-0300
TZNAME:-03
DTSTART:20230101T000000
END:STANDARD
END:VTIMEZONE
BEGIN:VEVENT
DTSTART;TZID=America/Sao_Paulo:20231005T140000
DTEND;TZID=America/Sao_Paulo:20231005T150000
DTSTAMP:20260422T082818
CREATED:20231003T221022Z
LAST-MODIFIED:20231003T221022Z
UID:10955-1696514400-1696518000@blog.desafiolatam.com
SUMMARY:Design Fusion: Uniendo UX/UI y Diseño Estratégico
DESCRIPTION:Únete a nosotros en una exploración inmersiva de la interacción dinámica entre el diseño de UX/UI y el diseño estratégico. Al adoptar la poderosa sinergia entre UX/UI y Diseño Estratégico\, descubrimos nuevos caminos para mejorar el enfoque estratégico y elevar el desarrollo de proyectos a través de la incorporación de una capa de servicio digital. Profundizaremos en el potencial transformador de estas disciplinas\, destacando cómo la visión estratégica de un proyecto puede revolucionarse aprovechando el valor que ofrecen UX/UI y Diseño Estratégico. \nRaquel Estrada Ferraz | Diseñadora estratégica en Mormedi \nRaquel Estrada es graduada en ingeniería en Diseño Industrial y Desarrollo del producto. Posteriormente\, tras preguntarse para qué y quién diseñaba sus productos\, se especializó con un máster en Diseño estratégico en el Politécnico de Milán. Continúa formándose con cursos como Storytelling for Influence\, de IDEO. Actualmente trabaja en Mormedi como diseñadora estratégica\, donde ha llevado a cabo proyectos en diversos sectores como retail\, movilidad\, banca y servicios\, con soluciones innovadoras que combinan su experiencia técnica y creativa. \nLucía Sánchez Bazaga | Diseñadora UX/UI en Avanade \nCuriosa por naturaleza\, siempre le llamó el mundo del diseño y lo visual\, así que se graduó en Diseño Multimedia y Gráfico en UDIT/ESNE en cuanto tuvo la oportunidad. Amplió su formación con un máster de Marketing Digital en AulaCM\, y con el tiempo se centró más en diseño digital\, por lo que sus ganas de estar siempre en constante aprendizaje le llevaron a formarme como diseñadora UX/UI en Ironhack. Sigue continuando su formación con cursos como el de Data Driven Design de La Nave Nodriza entre otros. Actualmente se encuentra trabajando como UX/UI Designer en Avanade\, en el sector de banca. \n📅 ¿Cuándo?: Jueves 5 de octubre a las 19:00 hrs. \n🕐 Duración: 1 hora. \n👥 Modalidad: Online
URL:https://blog.desafiolatam.com/eventos/design-fusion-uniendo-ux-ui-y-diseno-estrategico/
ATTACH;FMTTYPE=image/jpeg:https://blog.desafiolatam.com/wp-content/uploads/2023/10/https___cdn.evbuc_.com_images_551691369_185311334204_1_original.jpeg
END:VEVENT
BEGIN:VEVENT
DTSTART;TZID=America/Sao_Paulo:20231005T180000
DTEND;TZID=America/Sao_Paulo:20231005T190000
DTSTAMP:20260422T082818
CREATED:20231003T235232Z
LAST-MODIFIED:20231003T235232Z
UID:10976-1696528800-1696532400@blog.desafiolatam.com
SUMMARY:INTRODUCCION AL USO DE PYTHON EN POWER BI
DESCRIPTION:
URL:https://blog.desafiolatam.com/eventos/introduccion-al-uso-de-python-en-power-bi/
LOCATION:Evento Online
ATTACH;FMTTYPE=image/jpeg:https://blog.desafiolatam.com/wp-content/uploads/2023/10/https___cdn.evbuc_.com_images_609609039_1426573678553_1_original.jpeg
END:VEVENT
BEGIN:VEVENT
DTSTART;TZID=America/Sao_Paulo:20231005T220000
DTEND;TZID=America/Sao_Paulo:20231005T233000
DTSTAMP:20260422T082818
CREATED:20231003T234224Z
LAST-MODIFIED:20231003T234224Z
UID:10969-1696543200-1696548600@blog.desafiolatam.com
SUMMARY:Python en Excel: Una nueva funcionalidad que revoluciona el Data Analyst
DESCRIPTION:¿Sabías que Microsoft acaba de integrar Python en Excel?​ 🐍 \nPython en Excel es una nueva funcionalidad que Microsoft ha introducido en la versión beta de Excel\, esto significa que ya es una realidad integrar código Python y sus librerías dentro de una hoja de cálculo de Excel . 👨‍💻 \nSin duda\, esta nueva función desbloquea un mundo de posibilidades. Ahora podrás crear formulas\, tablas y gráficos con Python y visualizar los datos como nunca antes​. 😱 \nPor ello\, te invitamos a nuestro próximo taller para que aproveches las capacidades de Python para manipular y explorar los datos en Excel. ¡No te lo pierdas!
URL:https://blog.desafiolatam.com/eventos/python-en-excel-una-nueva-funcionalidad-que-revoluciona-el-data-analyst/
LOCATION:Evento Online
ATTACH;FMTTYPE=image/jpeg:https://blog.desafiolatam.com/wp-content/uploads/2023/10/https___cdn.evbuc_.com_images_608138349_1674561405713_1_original.jpeg
END:VEVENT
END:VCALENDAR