BEGIN:VCALENDAR
VERSION:2.0
PRODID:-//Desafío Latam - ECPv6.1.4//NONSGML v1.0//EN
CALSCALE:GREGORIAN
METHOD:PUBLISH
X-ORIGINAL-URL:https://blog.desafiolatam.com
X-WR-CALDESC:Eventos para Desafío Latam
REFRESH-INTERVAL;VALUE=DURATION:PT1H
X-Robots-Tag:noindex
X-PUBLISHED-TTL:PT1H
BEGIN:VTIMEZONE
TZID:America/Sao_Paulo
BEGIN:STANDARD
TZOFFSETFROM:-0300
TZOFFSETTO:-0300
TZNAME:-03
DTSTART:20230101T000000
END:STANDARD
END:VTIMEZONE
BEGIN:VEVENT
DTSTART;TZID=America/Sao_Paulo:20230907T130000
DTEND;TZID=America/Sao_Paulo:20230907T140000
DTSTAMP:20260422T100310
CREATED:20230906T155258Z
LAST-MODIFIED:20230906T155258Z
UID:10482-1694091600-1694095200@blog.desafiolatam.com
SUMMARY:Del Bootcamp al éxito Laboral: Estrategias para triunfar en el sector tech
DESCRIPTION:🧐¿De qué trata? \nEn este evento te contaremos cuál es la mejor manera de aprovechar un bootcamp\, qué oportunidades reales tiene de empleabilidad y cómo acceder a un buen trabajo después de la formación. \nSabemos que un bootcamp es duro\, qué aprender una nueva profesión de 0 no es fácil pero creemos en el reskilling y en el poder transformador de la educación. \n¡Anímate a asistir y descubre cómo aprender a dominar las herramientas y programas que piden actualmente las empresas puede cambiar tu rumbo profesional! \n📅 ¿Cuándo? Jueves 7 de septiembre de 2023 a las 18:00h. \n🕐 Duración: 1 hora. \n👥 Modalidad: Online \n👩‍💻¿A quién va dirigido? A personas que quieran introducirse en una carrera digital o aquellas que quieren incorporar un nuevo perfil tecnológico a su background profesional. \nSi tras la jornada tienes ganas de seguir aprendiendo atrévete con uno de nuestros bootcamps\, que en tan solo 16 semanas te preparan para ser un auténtico profesional digital. \n🚀 Más sobre The Bridge \nThe Bridge es la primera Aceleradora de Talento Digital de España. Fue fundada en 2019 para facilitar el acceso a una carrera profesional en el ámbito digital al mayor número de personas. \nAhora que todos los trabajos son tecnológicos\, el mundo necesita nueva mano de obra. Nosotros tenemos las herramientas\, la formación y la red para construirla. Nuestros estudiantes están preparados para el éxito con el aprendizaje práctico tanto online como presencial\, las tutorías individualizadas\, las becas y ayudas\, la orientación profesional y el acceso a una gran red de empleadores de la industria. \nEn THE BRIDGE\, apostamos por acercar al público masivo nuestros programas educativos inmersivos de estilo bootcamp\, especializados en las habilidades digitales más solicitadas\, ayudando a lograr los mejores resultados de nuestros estudiantes.
URL:https://blog.desafiolatam.com/eventos/del-bootcamp-al-exito-laboral-estrategias-para-triunfar-en-el-sector-tech/
ATTACH;FMTTYPE=image/jpeg:https://blog.desafiolatam.com/wp-content/uploads/2023/09/https___cdn.evbuc_.com_images_582079829_325931640853_1_original.jpeg
END:VEVENT
BEGIN:VEVENT
DTSTART;TZID=America/Sao_Paulo:20230907T160000
DTEND;TZID=America/Sao_Paulo:20230907T170000
DTSTAMP:20260422T100310
CREATED:20230906T154710Z
LAST-MODIFIED:20230906T154710Z
UID:10478-1694102400-1694106000@blog.desafiolatam.com
SUMMARY:Charlemos sobre ciberseguridad y cómo podemos enfrentar un Ransomware
DESCRIPTION:De la mano de nuestro Ingeniero Sergio Corizzo\, Gerente de Ingeniería y Servicios\, te invitamos a participar de este encuentro donde hablaremos acerca de: \n  \n🔐 Las principales problemáticas que tienen las empresas hoy en día en materia de Seguridad. \n🔐 Las amenazas y riesgos que enfrentan. \n🔐 Casos reales de ataques. \n🔐 Planes de acción. \n🔐 Planes de recuperación. \n  \n  \n  \nY sobre todo\, queremos escucharte y conocer cuál es tu experiencia en torno a la seguridad. \n  \n  \n  \n⚠ Evento exclusivo para: CIO´s\, Cisos\, Directores\, Gerentes y responsables de IT de empresas. No es un evento para partners/resellers IT. \n  \nOtras zonas horarias: \n  \nUruguay: 16 hs \nChile: 15 hs \nColombia: 14 hs \nEcuador: 14 hs \nMéxico: 13 hs \nParaguay: 15 hs \nPeru: 14 hs \nBolivia: 15 hs
URL:https://blog.desafiolatam.com/eventos/charlemos-sobre-ciberseguridad-y-como-podemos-enfrentar-un-ransomware/
ATTACH;FMTTYPE=image/jpeg:https://blog.desafiolatam.com/wp-content/uploads/2023/09/https___cdn.evbuc_.com_images_576652119_165862384933_1_original.jpeg
END:VEVENT
BEGIN:VEVENT
DTSTART;TZID=America/Sao_Paulo:20230907T160000
DTEND;TZID=America/Sao_Paulo:20230907T180000
DTSTAMP:20260422T100310
CREATED:20230906T185718Z
LAST-MODIFIED:20230906T185718Z
UID:10488-1694102400-1694109600@blog.desafiolatam.com
SUMMARY:Workshop Gratuito: UX/UI Aprende a prototipar tu producto digital
DESCRIPTION:¿Por qué deberías unirte? \n  \nEl protipado es un componente esencial del desarrollo web. Te permite visualizar y refinar tus ideas de diseño antes de la implementación. Es una habilidad digital crítica para desarrolladores\, emprendedores\, gerentes de crecimiento y de productos. Este taller de 1 hora y media es impartido por nuestros profesores oficiales de Le Wagon y es completamente gratuito. \n  \nPre – requisitos: \n  \n¡Todos los niveles son bienvenidos! No se necesita experiencia. Solo trae tu computadora y estar ahí\, en línea\, al comienzo de la clase. \n  \nLo que aprenderás: \n  \n✅ Los conceptos básicos de la investigación de UX\, desde la persona hasta el recorrido del usuario \n  \n✅ La creación de mapas de flujo de usuario con Whimsical \n  \n✅ La creación de prototipos de tus primeros wireframes en Figma
URL:https://blog.desafiolatam.com/eventos/workshop-gratuito-ux-ui-aprende-a-prototipar-tu-producto-digital/
ATTACH;FMTTYPE=image/jpeg:https://blog.desafiolatam.com/wp-content/uploads/2023/09/https___cdn.evbuc_.com_images_586438579_487036916499_1_original.jpeg
END:VEVENT
END:VCALENDAR